BEGIN:VCALENDAR
VERSION:2.0
PRODID:-//AAPS - ECPv6.10.1.1//NONSGML v1.0//EN
CALSCALE:GREGORIAN
METHOD:PUBLISH
X-ORIGINAL-URL:https://www.aaps.ca
X-WR-CALDESC:Events for AAPS
REFRESH-INTERVAL;VALUE=DURATION:PT1H
X-Robots-Tag:noindex
X-PUBLISHED-TTL:PT1H
BEGIN:VTIMEZONE
TZID:UTC
BEGIN:STANDARD
TZOFFSETFROM:+0000
TZOFFSETTO:+0000
TZNAME:UTC
DTSTART:20290101T000000
END:STANDARD
END:VTIMEZONE
BEGIN:VEVENT
DTSTART;TZID=UTC:20290731T080000
DTEND;TZID=UTC:20290731T170000
DTSTAMP:20260420T070417
CREATED:20190731T193712Z
LAST-MODIFIED:20260402T145722Z
UID:11026-1880179200-1880211600@www.aaps.ca
SUMMARY:Recorded Webinar Review of the Cannabis Act
DESCRIPTION:Recorded Webinar – Review of the Cannabis Act	\n	\n		\n	\n\n\nRecorded Webinar\nTime: 1.5 Hours\nCost: CAD$600+HST\n Buy Now!\n\n\n\nDistinguished Faculty\nMs. Laleh Bighash  \nDean of Pharmaceutical & Scientific Affairs and Chief Operating Officer (COO)\nAAPS \n\nMs. Bighash is the Dean of Pharmaceutical & Scientific Affairs and Chief Operating Officer (COO) of the Academy of Applied Pharmaceutical Sciences (AAPS) – a registered career college by Ministry of Colleges and Universities offering applied education and hands-on training for the pharmaceutical\, biopharmaceutical\, and allied industry. \nMs. Bighash has a B.Pharm degree as well as the Bachelor degree in Pharmacology and Toxicology from University of Toronto\, Canada. She also obtained her Masters degree in Business Administration (MBA) from Schulich School of Business in Toronto\, specializing in Finance and Strategy. \nIn her current role as the Dean of Scientific Affairs and Chief Operating Officer of Academy of Applied Pharmaceutical Sciences (AAPS) Inc. She manages the educational and training direction of the college. Her activities include management of industry and government relations\, overseeing of student\, faculty\, and staff activities and development of education policies and course contents of the AAPS programs. \nMs. Bighash is a co-founder and past Editor-in-chief of Canada’s only Pharmaceutical and Biopharmaceutical Trade magazine and executive director of Ontario Association of Career Colleges. She has lectured extensively and has been an invited speaker at many academic and industry events. \nHer Professional career includes working for number of multinational pharmaceutical companies such as Genpharm Inc.\, Bayer Corp. and Eli Lily. \n \nAbstract\nThis webinar aims to summarize the Cannabis act that came into effect on Oct 17\, 2018 and the proposed amendments on Cannabis edibles\, concentrates and topicals that to come into effect no later than October 17\, 2019. The webinar is to provide a practical understanding of: \n\nBackground\nLicenses\, Permits and Authorization\n\nStandard Cultivation\nMicro-Cultivation\nNursery\nStandard Processing\nMicro-Processing\nSale of Medicinal and Recreational Cannabis\nSale of Recreational Cannabis\n\nAnalytical Testing\nGPP\nSecurity\n\nPhysical Security\nPersonnel Security\nGood Production Practices\n\nCannabis Tracking System\nProposed Cannabis edibles\, concentrates and topicals\nPackaging and Labelling\n\nWho should attend?\nCannabis industry participants including employers and employees\, those who are interested in joining the industry\, licensed applicants\, and suppliers to the industry
URL:https://www.aaps.ca/event/recorded-webinar-review-of-the-cannabis-act
LOCATION:AAPS Training Center\, 200 Consumers Road\, Suite 200\, Toronto\, Ontario\, M2J 4R4\, Canada
CATEGORIES:Recorded Webinar
ATTACH;FMTTYPE=image/jpeg:https://www.aaps.ca/wp-content/uploads/img-featured-default.jpg
END:VEVENT
BEGIN:VEVENT
DTSTART;TZID=UTC:20290930T080000
DTEND;TZID=UTC:20290930T170000
DTSTAMP:20260420T070417
CREATED:20190731T194001Z
LAST-MODIFIED:20260402T150530Z
UID:11032-1885449600-1885482000@www.aaps.ca
SUMMARY:Recorded Webinar – Good Documentation and Record Keeping Practices for Cannabis
DESCRIPTION:Recorded Webinar – Good Documentation and Record Keeping Practices for Cannabis	\n	\n		\n	\n\n\nRecorded Webinar\nTime: 2.5 Hours\nCost: CAD$600+HST\n Buy Now!\n\n\n\n \nCourse Overview\nRecord Keeping is of vital importance to the regulated cannabis industry because it supports various important functions including making or breaking Health Canada inspections. Documentation is the legal proof that work was adequately performed and provides a written history of company and products\, as well proving to regulators that the company follows its regulatory commitments. Retention periods for the cannabis industry can be up to 25 years for some records\, therefore they must be appropriately protected whether it be on or off site. \nCourse Outline\n\nRegulatory Requirements for Documentation/Record Keeping\nResponsibilities\nReadiness of Documentation for Inspection\nDistribution of Documents\nArchiving on/offsite\nTemperature/Humidity Concerns\nRetention Periods\nAdverse Reactions and Adverse Reactions Reporting\n\nNote: Course outline is subject to change without notice. Please check back regularly for updates. \nWho Should Attend\nThis webinar is valuable for Directors\, Managers\, Supervisors\, Associates in the Pharmaceutical\, Biopharmaceutical\, Vitamins\, Herbals\, Medical Devices and allied industries with daily responsibilities in the following areas: \n\nRegulatory Affairs\nQuality Assurance\nOperations\nTraining\nConsultants\nResearch\nDocumentation and Technical Writing\nProject Management\nProduct Development\nGrowers
URL:https://www.aaps.ca/event/recorded-webinar-good-documentation-and-record-keeping-practices-for-cannabis
LOCATION:AAPS Training Center\, 200 Consumers Road\, Suite 200\, Toronto\, Ontario\, M2J 4R4\, Canada
CATEGORIES:Recorded Webinar
ATTACH;FMTTYPE=image/jpeg:https://www.aaps.ca/wp-content/uploads/img-featured-default.jpg
END:VEVENT
END:VCALENDAR